Workbook

Sheet Détails des dépenses - phase 1
A1: DEPENSES DE PERSONNEL
A3: Nom (ou "à recruter") et fonction du salarié | B3: Salaire brut mensuel | C3: Charges patronales mensuelles | D3: Aide financière mensuelle (contrat aidé) | E3: Salaire brut chargé mensuel | F3: Nombre de mois travaillés sur le projet | G3: Nombre d'heures mensuelles travaillées (tps projet + tps hors projet) | H3: % du temps passé sur l'action | I3: Coût attribué à l'action
A4: DEPENSES DE PERSONNEL SUPPORTEES PAR L'ETABLISSEMENT
E5: =IF(B5="","",SUM(B5:D5)) | I5: =IF(OR(E5="",H5=""),"",E5*F5*H5)
E6: =IF(B6="","",SUM(B6:D6)) | I6: =IF(OR(E6="",H6=""),"",E6*F6*H6)
E7: =IF(B7="","",SUM(B7:D7)) | I7: =IF(OR(E7="",H7=""),"",E7*F7*H7)
E8: =IF(B8="","",SUM(B8:D8)) | I8: =IF(OR(E8="",H8=""),"",E8*F8*H8)
A9: TOTAL DES DEPENSES DE PERSONNEL ETABLISSEMENT | I9: =SUM(I5:I8) -> 0
A10: DEPENSES DE PERSONNEL SUPPORTEES PAR LA PREMATURATION
E11: =IF(B11="","",SUM(B11:D11)) | I11: =IF(OR(E11="",H11=""),"",E11*F11*H11)
E12: =IF(B12="","",SUM(B12:D12)) | I12: =IF(OR(E12="",H12=""),"",E12*F12*H12)
E13: =IF(B13="","",SUM(B13:D13)) | I13: =IF(OR(E13="",H13=""),"",E13*F13*H13)
E14: =IF(B14="","",SUM(B14:D14)) | I14: =IF(OR(E14="",H14=""),"",E14*F14*H14)
E15: =IF(B15="","",SUM(B15:D15)) | I15: =IF(OR(E15="",H15=""),"",E15*F15*H15)
A16: TOTAL DES DEPENSES DE PERSONNEL PREMATURATION | I16: =SUM(I11:I15) -> 0
A20: DEPENSES DE FONCTIONNEMENT
A22: Nom des consommables | B22: Coût unitaire | C22: Nombre estimé | D22: Coût
A23: DEPENSES DE FONCTIONNEMENT SUPPORTEES PAR L'ETABLISSEMENT
D24: =IF(C24="","",B24*C24)
D25: =IF(C25="","",B25*C25)
D26: =IF(C26="","",B26*C26)
D27: =IF(C27="","",B27*C27)
A28: TOTAL DES DEPENSES DE FONCTIONNEMENT SUPPORTEES PAR L'ETABLISSEMENT | D28: =SUM(D24:D27) -> 0
A29: DEPENSES DE FONCTIONNEMENT SUPPORTEES PAR LA PREMATURATION
D30: =IF(C30="","",B30*C30)
D31: =IF(C31="","",B31*C31)
D32: =IF(C32="","",B32*C32)
D33: =IF(C33="","",B33*C33)
D34: =IF(C34="","",B34*C34)
A35: TOTAL DES DEPENSES DE FONCTIONNEMENT SUPPORTEES PAR LA PREMATURATION | D35: =SUM(D30:D34) -> 0
A39: DEPENSES DE PRESTATIONS
A41: Noms des prestations | B41: Coût unitaire | C41: Nombre estimé | D41: Coût
A42: DEPENSES DE PRESTATIONS SUPPORTEES PAR L'ETABLISSEMENT
D43: =IF(C43="","",B43*C43)
D44: =IF(C44="","",B44*C44)
D45: =IF(C45="","",B45*C45)
D46: =IF(C46="","",B46*C46)
A47: TOTAL DES DEPENSES DE PRESTATIONS SUPPORTEES PAR L'ETABLISSEMENT | D47: =SUM(D43:D46) -> 0
A48: DEPENSES DE PRESTATIONS SUPPORTEES PAR LA PRÉMATURATION
D49: =IF(C49="","",B49*C49)
...

Sheet Détails des dépenses - phase 2
A1: DEPENSES DE PERSONNEL
A3: Nom (ou "à recruter") et fonction du salarié | B3: Salaire brut mensuel | C3: Charges patronales mensuelles | D3: Aide financière mensuelle (contrat aidé) | E3: Salaire brut chargé mensuel | F3: Nombre de mois travaillés sur le projet | G3: Nombre d'heures mensuelles travaillées (tps projet + tps hors projet) | H3: % du temps passé sur l'action | I3: Coût attribué à l'action
A4: DEPENSES DE PERSONNEL SUPPORTEES PAR L'ETABLISSEMENT
E5: =IF(B5="","",SUM(B5:D5)) | I5: =IF(OR(E5="",H5=""),"",E5*F5*H5)
E6: =IF(B6="","",SUM(B6:D6)) | I6: =IF(OR(E6="",H6=""),"",E6*F6*H6)
E7: =IF(B7="","",SUM(B7:D7)) | I7: =IF(OR(E7="",H7=""),"",E7*F7*H7)
E8: =IF(B8="","",SUM(B8:D8)) | I8: =IF(OR(E8="",H8=""),"",E8*F8*H8)
A9: TOTAL DES DEPENSES DE PERSONNEL ETABLISSEMENT | I9: =SUM(I5:I8) -> 0
A10: DEPENSES DE PERSONNEL SUPPORTEES PAR LA PRÉMATURATION
E11: =IF(B11="","",SUM(B11:D11)) | I11: =IF(OR(E11="",H11=""),"",E11*F11*H11)
E12: =IF(B12="","",SUM(B12:D12)) | I12: =IF(OR(E12="",H12=""),"",E12*F12*H12)
E13: =IF(B13="","",SUM(B13:D13)) | I13: =IF(OR(E13="",H13=""),"",E13*F13*H13)
E14: =IF(B14="","",SUM(B14:D14)) | I14: =IF(OR(E14="",H14=""),"",E14*F14*H14)
E15: =IF(B15="","",SUM(B15:D15)) | I15: =IF(OR(E15="",H15=""),"",E15*F15*H15)
A16: TOTAL DES DEPENSES DE PERSONNEL PRÉMATURATION | I16: =SUM(I11:I15) -> 0
A20: DEPENSES DE FONCTIONNEMENT
A22: Nom des consommables | B22: Coût unitaire | C22: Nombre estimé | D22: Coût
A23: DEPENSES DE FONCTIONNEMENT SUPPORTEES PAR L'ETABLISSEMENT
D24: =IF(C24="","",B24*C24)
D25: =IF(C25="","",B25*C25)
D26: =IF(C26="","",B26*C26)
D27: =IF(C27="","",B27*C27)
A28: TOTAL DES DEPENSES DE FONCTIONNEMENT SUPPORTEES PAR L'ETABLISSEMENT | D28: =SUM(D24:D27) -> 0
A29: DEPENSES DE FONCTIONNEMENT SUPPORTEES PAR LA PRÉMATURATION
D30: =IF(C30="","",B30*C30)
D31: =IF(C31="","",B31*C31)
D32: =IF(C32="","",B32*C32)
D33: =IF(C33="","",B33*C33)
D34: =IF(C34="","",B34*C34)
A35: TOTAL DES DEPENSES DE FONCTIONNEMENT SUPPORTEES PAR LA PRÉMATURATION | D35: =SUM(D30:D34) -> 0
A39: DEPENSES DE PRESTATIONS
A41: Noms des prestations | B41: Coût unitaire | C41: Nombre estimé | D41: Coût
A42: DEPENSES DE PRESTATIONS SUPPORTEES PAR L'ETABLISSEMENT
D43: =IF(C43="","",B43*C43)
D44: =IF(C44="","",B44*C44)
D45: =IF(C45="","",B45*C45)
D46: =IF(C46="","",B46*C46)
A47: TOTAL DES DEPENSES DE PRESTATIONS SUPPORTEES PAR L'ETABLISSEMENT | D47: =SUM(D43:D46) -> 0
A48: DEPENSES DE PRESTATIONS SUPPORTEES PAR LA prématuration
D49: =IF(C49="","",B49*C49)
...

Sheet Détails des dépenses - phase 3
A1: DEPENSES DE PERSONNEL
A3: Nom (ou "à recruter") et fonction du salarié | B3: Salaire brut mensuel | C3: Charges patronales mensuelles | D3: Aide financière mensuelle (contrat aidé) | E3: Salaire brut chargé mensuel | F3: Nombre de mois travaillés sur le projet | G3: Nombre d'heures mensuelles travaillées (tps projet + tps hors projet) | H3: % du temps passé sur l'action | I3: Coût attribué à l'action
A4: DEPENSES DE PERSONNEL SUPPORTEES PAR L'ETABLISSEMENT
E5: =IF(B5="","",SUM(B5:D5)) | I5: =IF(OR(E5="",H5=""),"",E5*F5*H5)
E6: =IF(B6="","",SUM(B6:D6)) | I6: =IF(OR(E6="",H6=""),"",E6*F6*H6)
E7: =IF(B7="","",SUM(B7:D7)) | I7: =IF(OR(E7="",H7=""),"",E7*F7*H7)
E8: =IF(B8="","",SUM(B8:D8)) | I8: =IF(OR(E8="",H8=""),"",E8*F8*H8)
A9: TOTAL DES DEPENSES DE PERSONNEL ETABLISSEMENT | I9: =SUM(I5:I8) -> 0
A10: DEPENSES DE PERSONNEL SUPPORTEES PAR LA PRÉMATURATION
E11: =IF(B11="","",SUM(B11:D11)) | I11: =IF(OR(E11="",H11=""),"",E11*F11*H11)
E12: =IF(B12="","",SUM(B12:D12)) | I12: =IF(OR(E12="",H12=""),"",E12*F12*H12)
E13: =IF(B13="","",SUM(B13:D13)) | I13: =IF(OR(E13="",H13=""),"",E13*F13*H13)
E14: =IF(B14="","",SUM(B14:D14)) | I14: =IF(OR(E14="",H14=""),"",E14*F14*H14)
E15: =IF(B15="","",SUM(B15:D15)) | I15: =IF(OR(E15="",H15=""),"",E15*F15*H15)
A16: TOTAL DES DEPENSES DE PERSONNEL PRÉMATURATION | I16: =SUM(I11:I15) -> 0
A20: DEPENSES DE FONCTIONNEMENT
A22: Nom des consommables | B22: Coût unitaire | C22: Nombre estimé | D22: Coût
A23: DEPENSES DE FONCTIONNEMENT SUPPORTEES PAR L'ETABLISSEMENT
D24: =IF(C24="","",B24*C24)
D25: =IF(C25="","",B25*C25)
D26: =IF(C26="","",B26*C26)
D27: =IF(C27="","",B27*C27)
A28: TOTAL DES DEPENSES DE FONCTIONNEMENT SUPPORTEES PAR L'ETABLISSEMENT | D28: =SUM(D24:D27) -> 0
A29: DEPENSES DE FONCTIONNEMENT SUPPORTEES PAR LA PRÉMATURATION
D30: =IF(C30="","",B30*C30)
D31: =IF(C31="","",B31*C31)
D32: =IF(C32="","",B32*C32)
D33: =IF(C33="","",B33*C33)
D34: =IF(C34="","",B34*C34)
A35: TOTAL DES DEPENSES DE FONCTIONNEMENT SUPPORTEES PAR LA PRÉMATURATION | D35: =SUM(D30:D34) -> 0
A39: DEPENSES DE PRESTATIONS
A41: Noms des prestations | B41: Coût unitaire | C41: Nombre estimé | D41: Coût
A42: DEPENSES DE PRESTATIONS SUPPORTEES PAR L'ETABLISSEMENT
D43: =IF(C43="","",B43*C43)
D44: =IF(C44="","",B44*C44)
D45: =IF(C45="","",B45*C45)
D46: =IF(C46="","",B46*C46)
A47: TOTAL DES DEPENSES DE PRESTATIONS SUPPORTEES PAR L'ETABLISSEMENT | D47: =SUM(D43:D46) -> 0
A48: DEPENSES DE PRESTATIONS SUPPORTEES PAR LA PRÉMATURATION
D49: =IF(C49="","",B49*C49)
...

Sheet Plan de financement
A7: PLAN DE FINANCEMENT PREVISIONNEL
A9: DEPENSES HT | C9: RECETTES HT
A10: Indiquer les postes de dépenses | B10: MONTANT | C10: Indiquer les recettes attendues | D10: MONTANT
B11: en € | D11: en €
A12: Coût supporté par l'établissement - Phase 1 | B12: ='Détails des dépenses - phase 1'!I56 -> 0
A13: Coût supporté par l'établissement - Phase 2 | B13: ='Détails des dépenses - phase 2'!I56 -> 0
A14: Coût supporté par l'établissement - Phase 3 | B14: ='Détails des dépenses - phase 3'!I56 -> 0
A15: PHASE 1
A16: Dépenses de personnel | B16: ='Détails des dépenses - phase 1'!I16 -> 0 | C16: Financement prématuration | D16: =SUM(B16:B18,B20:B22,B24:B26) -> 0
A17: Dépenses de fonctionnement | B17: ='Détails des dépenses - phase 1'!D35 -> 0
A18: Dépenses de prestations externes | B18: ='Détails des dépenses - phase 1'!D54 -> 0
A19: PHASE 2
A20: Dépenses de personnel | B20: ='Détails des dépenses - phase 2'!I16 -> 0 | C20: Autofinancement | D20: =SUM(B12:B14) -> 0
A21: Dépenses de fonctionnement | B21: ='Détails des dépenses - phase 2'!D35 -> 0
A22: Dépenses de prestations externes | B22: ='Détails des dépenses - phase 2'!D54 -> 0
A23: PHASE 3
A24: Dépenses de personnel | B24: ='Détails des dépenses - phase 3'!I16 -> 0
A25: Dépenses de fonctionnement | B25: ='Détails des dépenses - phase 3'!D35 -> 0
A26: Dépenses de prestations externes | B26: ='Détails des dépenses - phase 3'!D54 -> 0
A27: TOTAL DES DEPENSES | B27: =SUM(B12:B14,B16:B18,B20:B22,B24:B26) -> 0 | C27: TOTAL DES RECETTES | D27: =SUM(D12:D26) -> 0
